BEGIN:VCALENDAR
VERSION:2.0
PRODID:-//Blue LLama - ECPv6.15.20//NONSGML v1.0//EN
CALSCALE:GREGORIAN
METHOD:PUBLISH
X-WR-CALNAME:Blue LLama
X-ORIGINAL-URL:https://bluellamaclub.com
X-WR-CALDESC:Events for Blue LLama
REFRESH-INTERVAL;VALUE=DURATION:PT1H
X-Robots-Tag:noindex
X-PUBLISHED-TTL:PT1H
BEGIN:VTIMEZONE
TZID:America/Detroit
BEGIN:DAYLIGHT
TZOFFSETFROM:-0500
TZOFFSETTO:-0400
TZNAME:EDT
DTSTART:20250309T070000
END:DAYLIGHT
BEGIN:STANDARD
TZOFFSETFROM:-0400
TZOFFSETTO:-0500
TZNAME:EST
DTSTART:20251102T060000
END:STANDARD
BEGIN:DAYLIGHT
TZOFFSETFROM:-0500
TZOFFSETTO:-0400
TZNAME:EDT
DTSTART:20260308T070000
END:DAYLIGHT
BEGIN:STANDARD
TZOFFSETFROM:-0400
TZOFFSETTO:-0500
TZNAME:EST
DTSTART:20261101T060000
END:STANDARD
BEGIN:DAYLIGHT
TZOFFSETFROM:-0500
TZOFFSETTO:-0400
TZNAME:EDT
DTSTART:20270314T070000
END:DAYLIGHT
BEGIN:STANDARD
TZOFFSETFROM:-0400
TZOFFSETTO:-0500
TZNAME:EST
DTSTART:20271107T060000
END:STANDARD
END:VTIMEZONE
BEGIN:VEVENT
DTSTART;TZID=America/Detroit:20260627T190000
DTEND;TZID=America/Detroit:20260627T213000
DTSTAMP:20260422T041630
CREATED:20260310T200032Z
LAST-MODIFIED:20260310T200032Z
UID:10000284-1782586800-1782595800@bluellamaclub.com
SUMMARY:Olivia Van Goor Quartet
DESCRIPTION:Sun | Jan 18	\n\n	\n		\n		Sarah D’Angelo & Cliff Monear\n	\n	\n\n\n	\n		\n	Sets at 6pm and 7:30pm | $25 Cover \n\n	\n\n\n	\n		\n			\n							RESERVE TABLE\n					\n\n	\n\n\n\n			\n	\n	\n		\n\n	\n	\n\n\n\n	\n\n\n			\n	\n	\n		\n		About the Artist\n	\n	\n\n\n\n	\n\n\n			\n	\n\n			\n	\n	\n		\n	Vocalist/clarinetist Sarah D'Angelo is a relative new-comer to Detroit's jazz scene but she is quickly making new fans out of everyone who experiences her passionate and intelligent singing. Sarah's warm personality and bright smile light up the stage and make an instant connection with audiences. Sarah always includes in her performances a bit of her excellent clarinet playing\, a talent and skill which makes her presentation even more special. \nCliff Monear is a jazz pianist based in Michigan\, known for his performances\, teaching\, and work with Steinway & Sons. He is the exclusive Steinway & Sons representative for the Michigan jazz community. He performs with his group\, The Cliff Monear Trio\, and also as a soloist and with other musicians. He teaches at Wayne State University. \n\n	\n\n\n\n			\n	\n	\n		\n	\n				\n					\n	\n	\n\n\n	\n		\n			\n							RESERVE TABLE\n					\n\n	\n\n\n\n	\n\n\n	\n		\n	\n\nLEARN MORE
URL:https://bluellamaclub.com/event/olivia-van-goor-quartet-4/
ATTACH;FMTTYPE=image/webp:https://bluellamaclub.com/wp-content/uploads/2025/06/OliviaVanoorBNW2.jpg-sqLg.webp
END:VEVENT
BEGIN:VEVENT
DTSTART;TZID=America/Detroit:20260628T190000
DTEND;TZID=America/Detroit:20260628T220000
DTSTAMP:20260422T041630
CREATED:20260319T162427Z
LAST-MODIFIED:20260319T162427Z
UID:10000302-1782673200-1782684000@bluellamaclub.com
SUMMARY:Erena Terakubo
DESCRIPTION:Sun | Jan 18	\n\n	\n		\n		Sarah D’Angelo & Cliff Monear\n	\n	\n\n\n	\n		\n	Sets at 6pm and 7:30pm | $25 Cover \n\n	\n\n\n	\n		\n			\n							RESERVE TABLE\n					\n\n	\n\n\n\n			\n	\n	\n		\n\n	\n	\n\n\n\n	\n\n\n			\n	\n	\n		\n		About the Artist\n	\n	\n\n\n\n	\n\n\n			\n	\n\n			\n	\n	\n		\n	Vocalist/clarinetist Sarah D'Angelo is a relative new-comer to Detroit's jazz scene but she is quickly making new fans out of everyone who experiences her passionate and intelligent singing. Sarah's warm personality and bright smile light up the stage and make an instant connection with audiences. Sarah always includes in her performances a bit of her excellent clarinet playing\, a talent and skill which makes her presentation even more special. \nCliff Monear is a jazz pianist based in Michigan\, known for his performances\, teaching\, and work with Steinway & Sons. He is the exclusive Steinway & Sons representative for the Michigan jazz community. He performs with his group\, The Cliff Monear Trio\, and also as a soloist and with other musicians. He teaches at Wayne State University. \n\n	\n\n\n\n			\n	\n	\n		\n	\n				\n					\n	\n	\n\n\n	\n		\n			\n							RESERVE TABLE\n					\n\n	\n\n\n\n	\n\n\n	\n		\n	\n\nLEARN MORE
URL:https://bluellamaclub.com/event/erena-terakubo/
ATTACH;FMTTYPE=image/png:https://bluellamaclub.com/wp-content/uploads/2026/03/erena-terakuba.png
END:VEVENT
END:VCALENDAR